BEGIN:VCALENDAR
VERSION:2.0
PRODID:-//Forchelli Deegan Terrana Law - ECPv6.15.20//NONSGML v1.0//EN
CALSCALE:GREGORIAN
METHOD:PUBLISH
X-WR-CALNAME:Forchelli Deegan Terrana Law
X-ORIGINAL-URL:https://www.forchellilaw.com
X-WR-CALDESC:Events for Forchelli Deegan Terrana Law
REFRESH-INTERVAL;VALUE=DURATION:PT1H
X-Robots-Tag:noindex
X-PUBLISHED-TTL:PT1H
BEGIN:VTIMEZONE
TZID:America/New_York
BEGIN:DAYLIGHT
TZOFFSETFROM:-0500
TZOFFSETTO:-0400
TZNAME:EDT
DTSTART:20220313T070000
END:DAYLIGHT
BEGIN:STANDARD
TZOFFSETFROM:-0400
TZOFFSETTO:-0500
TZNAME:EST
DTSTART:20221106T060000
END:STANDARD
BEGIN:DAYLIGHT
TZOFFSETFROM:-0500
TZOFFSETTO:-0400
TZNAME:EDT
DTSTART:20230312T070000
END:DAYLIGHT
BEGIN:STANDARD
TZOFFSETFROM:-0400
TZOFFSETTO:-0500
TZNAME:EST
DTSTART:20231105T060000
END:STANDARD
BEGIN:DAYLIGHT
TZOFFSETFROM:-0500
TZOFFSETTO:-0400
TZNAME:EDT
DTSTART:20240310T070000
END:DAYLIGHT
BEGIN:STANDARD
TZOFFSETFROM:-0400
TZOFFSETTO:-0500
TZNAME:EST
DTSTART:20241103T060000
END:STANDARD
END:VTIMEZONE
BEGIN:VEVENT
DTSTART;TZID=America/New_York:20230810T143000
DTEND;TZID=America/New_York:20230810T173000
DTSTAMP:20260424T233506
CREATED:20230512T193215Z
LAST-MODIFIED:20230714T134605Z
UID:7446-1691677800-1691688600@www.forchellilaw.com
SUMMARY:HIA-LI: Annual Summer Bash Boat Cruise
DESCRIPTION:We are proud to sponsor this event presented by the HIA-LI. \n 
URL:https://www.forchellilaw.com/event/annual-summer-bash-boat-cruise/
LOCATION:Bay Shore Marina\, S. Clinton Ave\, Bay Shore\, 11706
ATTACH;FMTTYPE=image/jpeg:https://www.forchellilaw.com/wp-content/uploads/2023/05/16865852842071.jpg
ORGANIZER;CN="HIA-LI":MAILTO:info@hia-li.org
END:VEVENT
END:VCALENDAR