BEGIN:VCALENDAR
VERSION:2.0
PRODID:-//Forchelli Deegan Terrana Law - ECPv6.15.20//NONSGML v1.0//EN
CALSCALE:GREGORIAN
METHOD:PUBLISH
X-WR-CALNAME:Forchelli Deegan Terrana Law
X-ORIGINAL-URL:https://www.forchellilaw.com
X-WR-CALDESC:Events for Forchelli Deegan Terrana Law
REFRESH-INTERVAL;VALUE=DURATION:PT1H
X-Robots-Tag:noindex
X-PUBLISHED-TTL:PT1H
BEGIN:VTIMEZONE
TZID:America/New_York
BEGIN:DAYLIGHT
TZOFFSETFROM:-0500
TZOFFSETTO:-0400
TZNAME:EDT
DTSTART:20220313T070000
END:DAYLIGHT
BEGIN:STANDARD
TZOFFSETFROM:-0400
TZOFFSETTO:-0500
TZNAME:EST
DTSTART:20221106T060000
END:STANDARD
BEGIN:DAYLIGHT
TZOFFSETFROM:-0500
TZOFFSETTO:-0400
TZNAME:EDT
DTSTART:20230312T070000
END:DAYLIGHT
BEGIN:STANDARD
TZOFFSETFROM:-0400
TZOFFSETTO:-0500
TZNAME:EST
DTSTART:20231105T060000
END:STANDARD
BEGIN:DAYLIGHT
TZOFFSETFROM:-0500
TZOFFSETTO:-0400
TZNAME:EDT
DTSTART:20240310T070000
END:DAYLIGHT
BEGIN:STANDARD
TZOFFSETFROM:-0400
TZOFFSETTO:-0500
TZNAME:EST
DTSTART:20241103T060000
END:STANDARD
END:VTIMEZONE
BEGIN:VTIMEZONE
TZID:America/New_York
BEGIN:DAYLIGHT
TZOFFSETFROM:-0500
TZOFFSETTO:-0400
TZNAME:EDT
DTSTART:20220313T070000
END:DAYLIGHT
BEGIN:STANDARD
TZOFFSETFROM:-0400
TZOFFSETTO:-0500
TZNAME:EST
DTSTART:20221106T060000
END:STANDARD
BEGIN:DAYLIGHT
TZOFFSETFROM:-0500
TZOFFSETTO:-0400
TZNAME:EDT
DTSTART:20230312T070000
END:DAYLIGHT
BEGIN:STANDARD
TZOFFSETFROM:-0400
TZOFFSETTO:-0500
TZNAME:EST
DTSTART:20231105T060000
END:STANDARD
BEGIN:DAYLIGHT
TZOFFSETFROM:-0500
TZOFFSETTO:-0400
TZNAME:EDT
DTSTART:20240310T070000
END:DAYLIGHT
BEGIN:STANDARD
TZOFFSETFROM:-0400
TZOFFSETTO:-0500
TZNAME:EST
DTSTART:20241103T060000
END:STANDARD
END:VTIMEZONE
BEGIN:VEVENT
DTSTART;TZID=America/New_York:20230602T150000
DTEND;TZID=America/New_York:20230602T153000
DTSTAMP:20260424T205852
CREATED:20230602T193213Z
LAST-MODIFIED:20230608T171307Z
UID:7507-1685718000-1685719800@www.forchellilaw.com
SUMMARY:Long Island News\, Tax Talk Radio Show (103.9FM): Common Estate Planning and Litigation issues including fiduciary appointments\, life insurance and Trusts
DESCRIPTION:Cheryl L. Katz-Erato\, Tax Trusts & Estates partner at Forchelli Deegan Terrana LLP joins “The Main Street Code for Financial Success\,” hosted by Neil Himmelstein of Main Street Planning Group for a discussion on the Common Estate Planning and Litigation issues including fiduciary appointments\, life insurance and Trusts. \nClick here to listen to the recording from the LIVE broadcast on 103.9 L.I. News Radio \nAlso available on Audacy\, click here
URL:https://www.forchellilaw.com/event/long-island-news-tax-talk-radio-show-103-9fm-estate-planning/
LOCATION:LI News Radio\, Ronkonkoma\, NY\, 11779\, United States
ATTACH;FMTTYPE=image/png:https://www.forchellilaw.com/wp-content/uploads/2023/06/CKE_Li-News-Radio-060223v2.png
END:VEVENT
BEGIN:VEVENT
DTSTART;TZID=America/New_York:20230606T110000
DTEND;TZID=America/New_York:20230606T180000
DTSTAMP:20260424T205852
CREATED:20230123T160505Z
LAST-MODIFIED:20231204T163325Z
UID:6859-1686049200-1686074400@www.forchellilaw.com
SUMMARY:Collaborate With Edge 6th Annual Leadership Conference
DESCRIPTION:Forchelli Deegan Terrana LLP (“FDT”) is committed to moving the needle closer to women’s leadership parity. In collaboration\, we will shift the paradigm and start the change. \n \n  \n#CollaborateWithEdge #WomenSupportingWomen
URL:https://www.forchellilaw.com/event/collaborate-with-edge-6th-annual-leadership-conference/
LOCATION:Melville Marriot\, 1350 Walt Whitman Rd.\, Melville\, 11747
ATTACH;FMTTYPE=image/jpeg:https://www.forchellilaw.com/wp-content/uploads/2023/01/CWE-Header-Image.jpg
ORGANIZER;CN="Ivy Algazy":MAILTO:Ivy@ivy-network.com
END:VEVENT
BEGIN:VEVENT
DTSTART;VALUE=DATE:20230612
DTEND;VALUE=DATE:20230613
DTSTAMP:20260424T205852
CREATED:20230420T140849Z
LAST-MODIFIED:20230420T140849Z
UID:7232-1686528000-1686614399@www.forchellilaw.com
SUMMARY:Cleary School for the Deaf 32nd Annual Golf Classic
DESCRIPTION:FDT proudly sponsors the Cleary School for the Deaf 32nd Annual Golf Classic! The event will be held on Monday\, June 12\, 2023 at Engineers Country Club.
URL:https://www.forchellilaw.com/event/cleary-school-for-the-deaf-32nd-annual-golf-classic/
LOCATION:Engineers Country Club\, 55 Glenwood Road\, Roslyn Harbor\, NY\, 11576\, United States
ATTACH;FMTTYPE=image/png:https://www.forchellilaw.com/wp-content/uploads/2023/04/2023-01-12-12_16_57-Cleary-Foundation-for-the-Deaf-32nd-Annual-Golf-Classic-.png
END:VEVENT
BEGIN:VEVENT
DTSTART;TZID=America/New_York:20230614T180000
DTEND;TZID=America/New_York:20230614T200000
DTSTAMP:20260424T205852
CREATED:20230525T181714Z
LAST-MODIFIED:20230525T181714Z
UID:7482-1686765600-1686772800@www.forchellilaw.com
SUMMARY:CIBS 26th Annual Real Estate Dinner
DESCRIPTION:FDT proudly sponsors the CIBS 26th Annual Real Estate Dinner.
URL:https://www.forchellilaw.com/event/cibs-real-estate-dinner/
LOCATION:Heritage Club at Bethpage\, 99 Quaker Meeting House Rd.\, Farmingdale\, NY\, 11735\, United States
ATTACH;FMTTYPE=image/jpeg:https://www.forchellilaw.com/wp-content/uploads/2023/05/CIBS-26th-Annual-Real-Estate-Dinner.jpg
ORGANIZER;CN="CIBS":MAILTO:cmajid@cibs-li.com
END:VEVENT
BEGIN:VEVENT
DTSTART;TZID=America/New_York:20230616T110000
DTEND;TZID=America/New_York:20230616T150000
DTSTAMP:20260424T205852
CREATED:20230526T150456Z
LAST-MODIFIED:20230526T150456Z
UID:7485-1686913200-1686927600@www.forchellilaw.com
SUMMARY:Vision Long Island 2023 Smart Growth Awards
DESCRIPTION:FDT proudly sponsors the Vision Long Island 2023 Smart Growth Awards.
URL:https://www.forchellilaw.com/event/vision-long-island-2023-smart-growth-awards/
LOCATION:Crest Hollow Country Club\, 8325 Jericho Turnpike\, Woodbury\, NY\, 11797\, United States
ATTACH;FMTTYPE=image/jpeg:https://www.forchellilaw.com/wp-content/uploads/2023/05/https___cdn.evbuc_.com_images_512073229_36099012532_1_original1.jpg
END:VEVENT
BEGIN:VEVENT
DTSTART;TZID=America/New_York:20230619T090000
DTEND;TZID=America/New_York:20230619T163000
DTSTAMP:20260424T205852
CREATED:20230615T171807Z
LAST-MODIFIED:20230615T174813Z
UID:7539-1687165200-1687192200@www.forchellilaw.com
SUMMARY:Marijuana Business Law in New York: Know the Salient Points of Marijuana Laws and Effectively Advise Your Clients
DESCRIPTION:Forchelli Deegan Terrana LLP partner Rachel L. Partain from our Corporate and Mergers & Acquisitions practice group with experience in Cannabis and Tax Law will present a LIVE CLE seminar on “New York Marijuana Taxation: The Latest Rules” with the National Business Institute. \nRachel will discuss State and Local Taxation Protocols for Marijuana Businesses\, Federal Tax Issues\, Business Strategies to Overcome Taxation Difficulties and Current Tax Updates. \nRegister online to attend this full-day CLE program “Marijuana Business Law in New York: Know the Salient Points of Marijuana Laws and Effectively Advise Your Clients”
URL:https://www.forchellilaw.com/event/marijuana-business-law-in-new-york-know-the-salient-points-of-marijuana-laws-and-effectively-advise-your-clients/
LOCATION:Virtual\, United States
ATTACH;FMTTYPE=image/png:https://www.forchellilaw.com/wp-content/uploads/2023/06/RLP-Cannabis-Tax-CLE-061923.png
END:VEVENT
BEGIN:VEVENT
DTSTART;TZID=America/New_York:20230621T170000
DTEND;TZID=America/New_York:20230621T173000
DTSTAMP:20260424T205852
CREATED:20230622T134239Z
LAST-MODIFIED:20230622T134239Z
UID:7560-1687366800-1687368600@www.forchellilaw.com
SUMMARY:The Voice of Uniondale Radio Show: "New York State Labor And Cannabis Law"
DESCRIPTION:Forchelli Deegan Terrana LLP partner Lisa M. Casa\, Esq. from our Employment and Labor practice group with experience in Cannabis Law will present LIVE on “New York State Labor And Cannabis Law” with The Voice of Uniondale\, host Nicole Burke on the radio. \nLisa will discuss what it takes to own/operate a cannabis retail store in NYS and who qualifies as an employee for overtime pay. \nListen live from 5:00 to 5:30 PM on WRHU\, 88.7FM.
URL:https://www.forchellilaw.com/event/the-voice-of-uniondale-radio-show-new-york-state-labor-and-cannabis-law/
LOCATION:Radio Hofstra University (WRHU)\, 1000 Hempstead Tpke\, Hempstead\, NY\, 11549-1000\, United States
ATTACH;FMTTYPE=image/png:https://www.forchellilaw.com/wp-content/uploads/2023/06/LMC-Hofstra-Radio-062123.png
END:VEVENT
BEGIN:VEVENT
DTSTART;TZID=America/New_York:20230628T180000
DTEND;TZID=America/New_York:20230628T210000
DTSTAMP:20260424T205852
CREATED:20230512T193912Z
LAST-MODIFIED:20230608T170815Z
UID:7449-1687975200-1687986000@www.forchellilaw.com
SUMMARY:LIBN: Real Estate\, Architecture & Engineering Awards
DESCRIPTION:FDT proudly sponsors the LIBN Real Estate\, Architecture & Engineering Awards which honors those who help create and build Long Island’s future\, and recognizes some of the most dynamic and successful business people in the commercial real estate community. \nCongratulations to FDT on receiving Top Property Tax Assessment Firm and attorneys Dan Deegan & Bill Bonesso for receiving Top Industrial Project: Nassau on Meadowbrook Logistics Center\, Garden City.
URL:https://www.forchellilaw.com/event/libn-real-estate-architecture-engineering-awards/
LOCATION:Crest Hollow Country Club\, 8325 Jericho Turnpike\, Woodbury\, NY\, 11797\, United States
ATTACH;FMTTYPE=image/png:https://www.forchellilaw.com/wp-content/uploads/2023/05/image1.png
END:VEVENT
END:VCALENDAR