BEGIN:VCALENDAR
VERSION:2.0
PRODID:-//Forchelli Deegan Terrana Law - ECPv6.15.20//NONSGML v1.0//EN
CALSCALE:GREGORIAN
METHOD:PUBLISH
X-WR-CALNAME:Forchelli Deegan Terrana Law
X-ORIGINAL-URL:https://www.forchellilaw.com
X-WR-CALDESC:Events for Forchelli Deegan Terrana Law
REFRESH-INTERVAL;VALUE=DURATION:PT1H
X-Robots-Tag:noindex
X-PUBLISHED-TTL:PT1H
BEGIN:VTIMEZONE
TZID:America/New_York
BEGIN:DAYLIGHT
TZOFFSETFROM:-0500
TZOFFSETTO:-0400
TZNAME:EDT
DTSTART:20220313T070000
END:DAYLIGHT
BEGIN:STANDARD
TZOFFSETFROM:-0400
TZOFFSETTO:-0500
TZNAME:EST
DTSTART:20221106T060000
END:STANDARD
BEGIN:DAYLIGHT
TZOFFSETFROM:-0500
TZOFFSETTO:-0400
TZNAME:EDT
DTSTART:20230312T070000
END:DAYLIGHT
BEGIN:STANDARD
TZOFFSETFROM:-0400
TZOFFSETTO:-0500
TZNAME:EST
DTSTART:20231105T060000
END:STANDARD
BEGIN:DAYLIGHT
TZOFFSETFROM:-0500
TZOFFSETTO:-0400
TZNAME:EDT
DTSTART:20240310T070000
END:DAYLIGHT
BEGIN:STANDARD
TZOFFSETFROM:-0400
TZOFFSETTO:-0500
TZNAME:EST
DTSTART:20241103T060000
END:STANDARD
END:VTIMEZONE
BEGIN:VEVENT
DTSTART;VALUE=DATE:20230501
DTEND;VALUE=DATE:20230502
DTSTAMP:20260424T192536
CREATED:20230421T200051Z
LAST-MODIFIED:20230421T200051Z
UID:7280-1682899200-1682985599@www.forchellilaw.com
SUMMARY:Alzheimer's Foundation of America Golf Classic
DESCRIPTION:FDT proudly sponsors the Alzheimer’s Foundation of America Golf Classic
URL:https://www.forchellilaw.com/event/alzheimers-foundation-of-america-golf-classic/
LOCATION:Meadow Brook Club\, 500 Cedar Swamp Road\, Jericho\, NY\, 11753\, United States
ATTACH;FMTTYPE=image/png:https://www.forchellilaw.com/wp-content/uploads/2023/04/AFA-Golf-Classic-Monday-1920x971-1.png
END:VEVENT
BEGIN:VEVENT
DTSTART;TZID=America/New_York:20230503T173000
DTEND;TZID=America/New_York:20230503T220000
DTSTAMP:20260424T192536
CREATED:20230419T182556Z
LAST-MODIFIED:20230419T182556Z
UID:7220-1683135000-1683151200@www.forchellilaw.com
SUMMARY:ACLD Foundation Poker for a Purpose
DESCRIPTION:FDT proudly sponsors the 5th annual ACLD Foundation Poker for a Purpose fundraiser at the Heritage Club at Bethpage.
URL:https://www.forchellilaw.com/event/acld-foundation-poker-for-a-purpose/
LOCATION:Heritage Club at Bethpage\, 99 Quaker Meeting House Rd.\, Farmingdale\, NY\, 11735\, United States
ATTACH;FMTTYPE=image/jpeg:https://www.forchellilaw.com/wp-content/uploads/2023/04/poker-logo.jpg
END:VEVENT
BEGIN:VEVENT
DTSTART;TZID=America/New_York:20230504T080000
DTEND;TZID=America/New_York:20230504T110000
DTSTAMP:20260424T192536
CREATED:20230504T181804Z
LAST-MODIFIED:20230504T181804Z
UID:7406-1683187200-1683198000@www.forchellilaw.com
SUMMARY:CIBS Real Estate Roundtable
DESCRIPTION:FDT proudly sponsors the CIBS Real Estate Roundtable. \nAndrea Tsoukalas Curto\, Esq.\, Partner in FDT’s Land Use & Zoning practice group presented on The Importance of Early Stage Zoning Due Diligence When Purchasing or Leasing Commercial Property for the educational table topics.
URL:https://www.forchellilaw.com/event/cibs-real-estate-roundtable/
LOCATION:Damianos Realty Group\, 100 Motor Parkway\, Hauppauge\, NY\, 11788\, United States
ATTACH;FMTTYPE=image/jpeg:https://www.forchellilaw.com/wp-content/uploads/2023/05/CIBS_Roundtable_v31.jpg
ORGANIZER;CN="CIBS":MAILTO:cmajid@cibs-li.com
END:VEVENT
BEGIN:VEVENT
DTSTART;TZID=America/New_York:20230513T180000
DTEND;TZID=America/New_York:20230513T230000
DTSTAMP:20260424T192536
CREATED:20230208T164539Z
LAST-MODIFIED:20230324T134143Z
UID:6888-1684000800-1684018800@www.forchellilaw.com
SUMMARY:Nassau County Bar Association 123rd Annual Dinner Gala
DESCRIPTION:FDT proudly sponsors the upcoming Nassau County Bar Association’s 123rd Annual Dinner Gala.
URL:https://www.forchellilaw.com/event/nassau-county-bar-association-123rd-annual-dinner-gala/
LOCATION:Long Island Marriott\, 101 James Doolittle Blvd\, Uniondale\, 11553\, United States
ATTACH;FMTTYPE=image/png:https://www.forchellilaw.com/wp-content/uploads/2023/02/Dinner-Gala-Save-the-Date-2023-1-600x8361-1.png
ORGANIZER;CN="Nassau County Bar Association":MAILTO:events@nassaubar.org
END:VEVENT
BEGIN:VEVENT
DTSTART;TZID=America/New_York:20230517T150000
DTEND;TZID=America/New_York:20230517T160000
DTSTAMP:20260424T192536
CREATED:20230511T155845Z
LAST-MODIFIED:20230523T132019Z
UID:7436-1684335600-1684339200@www.forchellilaw.com
SUMMARY:Planning Makes Perfect: Strategies to Avoid a Crisis
DESCRIPTION:Care Answered presents: Planning Makes Perfect: Strategies To Avoid A Crisis  \non Wednesday\, May 17 at 3:00 pm \nWith speakers: \nNicole Christensen\, MS\, BCPA\, \nPresident\, Care Answered \n  \nStephanie M. Alberts\, Esq. Partner\, \nForchelli\, Deegan and Terrana LLP \nClick here to watch the recording.
URL:https://www.forchellilaw.com/event/planning-makes-perfect-strategies-to-avoid-a-crisis/
LOCATION:Virtual\, United States
ATTACH;FMTTYPE=image/png:https://www.forchellilaw.com/wp-content/uploads/2023/05/SMA_CareAnswered-051723.png
END:VEVENT
BEGIN:VEVENT
DTSTART;TZID=America/New_York:20230517T180000
DTEND;TZID=America/New_York:20230517T200000
DTSTAMP:20260424T192536
CREATED:20230508T143520Z
LAST-MODIFIED:20230508T143520Z
UID:7421-1684346400-1684353600@www.forchellilaw.com
SUMMARY:Smithtown Chamber Business After Hours
DESCRIPTION:FDT proudly sponsors the upcoming Smithtown Chamber of Commerce Business After Hours event at Whisper Vineyards.  \nAll are welcome. \nPlease register with the Chamber\, click here.
URL:https://www.forchellilaw.com/event/smithtown-chamber-business-after-hours/
LOCATION:Whisper Vineyards\, 485 Edgewood Ave.\, St James\, NY\, 11780\, United States
ATTACH;FMTTYPE=image/jpeg:https://www.forchellilaw.com/wp-content/uploads/2023/05/f_Smithtown-Chamber_May-2023-Meeting-Postcard-NO-MARKSEMAIL-791x1024-1.jpg
END:VEVENT
BEGIN:VEVENT
DTSTART;TZID=America/New_York:20230519T150000
DTEND;TZID=America/New_York:20230519T153000
DTSTAMP:20260424T192536
CREATED:20230523T135047Z
LAST-MODIFIED:20230602T192842Z
UID:7475-1684508400-1684510200@www.forchellilaw.com
SUMMARY:Long Island News\, Tax Talk Radio Show (103.9FM): 5 Common Misconceptions About a Will
DESCRIPTION:Cheryl L. Katz-Erato\, Tax Trusts & Estates partner at Forchelli Deegan Terrana LLP joins “The Main Street Code for Financial Success\,” hosted by Neil Himmelstein of Main Street Planning Group for a discussion on the “5 Common Misconceptions About a Will.” \nClick here to listen to the recording from the LIVE broadcast on 103.9 L.I. News Radio \nAlso available on Audacy\, click here
URL:https://www.forchellilaw.com/event/long-island-news-tax-talk-radio-show-103-9fm-5-common-misconceptions-about-a-will/
LOCATION:LI News Radio\, Ronkonkoma\, NY\, 11779\, United States
ATTACH;FMTTYPE=image/png:https://www.forchellilaw.com/wp-content/uploads/2023/05/CKE_Li-News-Radio-051923v3.png
END:VEVENT
BEGIN:VEVENT
DTSTART;VALUE=DATE:20230521
DTEND;VALUE=DATE:20230524
DTSTAMP:20260424T192536
CREATED:20230504T184448Z
LAST-MODIFIED:20231204T163331Z
UID:7410-1684627200-1684886399@www.forchellilaw.com
SUMMARY:ICSC LAS VEGAS
DESCRIPTION:We are thrilled to be heading back to Las Vegas to network with the industry’s best at the ICSC! \nIf you would like to meet with FDT’s legal team at the Las Vegas Convention Center\, please message us. \nBe sure to connect with us on LinkedIn: John V. Terrana\, Daniel P. Deegan\, Judy L. Simoncic\, William F. Bonesso\, Donald F. Leistman\, and Daniel S. Dornfeld \nTo learn more about the event\, click here.
URL:https://www.forchellilaw.com/event/icsc-las-vegas/
LOCATION:Las Vegas Convention Center\, Las Vegas\, NV\, United States
ATTACH;FMTTYPE=image/png:https://www.forchellilaw.com/wp-content/uploads/2023/05/ICSC-2023-Vegas-Post-.png
END:VEVENT
END:VCALENDAR