BEGIN:VCALENDAR
VERSION:2.0
PRODID:-//Forchelli Deegan Terrana Law - ECPv6.15.20//NONSGML v1.0//EN
CALSCALE:GREGORIAN
METHOD:PUBLISH
X-WR-CALNAME:Forchelli Deegan Terrana Law
X-ORIGINAL-URL:https://www.forchellilaw.com
X-WR-CALDESC:Events for Forchelli Deegan Terrana Law
REFRESH-INTERVAL;VALUE=DURATION:PT1H
X-Robots-Tag:noindex
X-PUBLISHED-TTL:PT1H
BEGIN:VTIMEZONE
TZID:America/New_York
BEGIN:DAYLIGHT
TZOFFSETFROM:-0500
TZOFFSETTO:-0400
TZNAME:EDT
DTSTART:20220313T070000
END:DAYLIGHT
BEGIN:STANDARD
TZOFFSETFROM:-0400
TZOFFSETTO:-0500
TZNAME:EST
DTSTART:20221106T060000
END:STANDARD
BEGIN:DAYLIGHT
TZOFFSETFROM:-0500
TZOFFSETTO:-0400
TZNAME:EDT
DTSTART:20230312T070000
END:DAYLIGHT
BEGIN:STANDARD
TZOFFSETFROM:-0400
TZOFFSETTO:-0500
TZNAME:EST
DTSTART:20231105T060000
END:STANDARD
BEGIN:DAYLIGHT
TZOFFSETFROM:-0500
TZOFFSETTO:-0400
TZNAME:EDT
DTSTART:20240310T070000
END:DAYLIGHT
BEGIN:STANDARD
TZOFFSETFROM:-0400
TZOFFSETTO:-0500
TZNAME:EST
DTSTART:20241103T060000
END:STANDARD
END:VTIMEZONE
BEGIN:VEVENT
DTSTART;TZID=America/New_York:20230926T140000
DTEND;TZID=America/New_York:20230926T210000
DTSTAMP:20260420T081920
CREATED:20230719T141808Z
LAST-MODIFIED:20230810T140942Z
UID:7634-1695736800-1695762000@www.forchellilaw.com
SUMMARY:1st Annual “CIBS W” Women’s “9 & Dine” Golf Outing
DESCRIPTION:FDT’s Women’s Initiative proudly sponsors the 1st Annual “CIBS W” Women’s “9 & Dine” Golf Outing
URL:https://www.forchellilaw.com/event/1st-annual-cibs-w-womens-9-dine-golf-outing/
LOCATION:Stonebridge Golf Links & Country Club\, 2000 Raynors Way\, Smithtown\, NY\, 11787\, United States
ATTACH;FMTTYPE=image/png:https://www.forchellilaw.com/wp-content/uploads/2023/07/Screenshot_page11.png
ORGANIZER;CN="CIBS":MAILTO:cmajid@cibs-li.com
END:VEVENT
BEGIN:VEVENT
DTSTART;VALUE=DATE:20230929
DTEND;VALUE=DATE:20230930
DTSTAMP:20260420T081920
CREATED:20231002T184941Z
LAST-MODIFIED:20231002T184941Z
UID:7800-1695945600-1696031999@www.forchellilaw.com
SUMMARY:Long Island Business News Empowering Women 2023
DESCRIPTION:Forchelli Deegan Terrana LLP has made a long-term commitment to substantially invest in our Women’s Initiative program. Empowering women\, helping them excel and celebrating their achievements improves the overall success of our firm – a firm which ascribes to the philosophy that when one or more of us excel\, all ships rise. \nOne meaningful measure of this success is the easily tracked\, most tangible return on that investment – the firm’s ability to attract and retain not only highly-skilled female attorneys but male attorneys as well – and the matters which they\, in turn\, bring to the firm have a positive impact on the reputation and overall success of the firm. \nOther successes that may not be as easily measured\, but are visible and important to all who work here\, involve the firm culture\, which is one of inclusivity in all aspects. Elevating women has had a positive impact on the day-to-day work environment. All employees communicate cordially and respectfully and their voices are heard. Women improve the firm culture through their unique ideas. \nWith receptive management and leadership\, we are able to capitalize on\, and maximize\, the leadership potential of our women and positively impact firm culture. As more women are empowered and have the opportunity to hold up a mirror to our organization\, we collectively realize that\, as we prioritize women\, help them to recognize their strengths and give them a platform to voice their priorities\, we continue to build a more inclusive workplace. We are committed to continue to support women so that the future of our firm shines even brighter!
URL:https://www.forchellilaw.com/event/long-island-business-news-empowering-women-2023/
LOCATION:NY
ATTACH;FMTTYPE=image/png:https://www.forchellilaw.com/wp-content/uploads/2023/10/LIBN-Empowering-Women-2023-Post-.png
END:VEVENT
BEGIN:VEVENT
DTSTART;VALUE=DATE:20231004
DTEND;VALUE=DATE:20231007
DTSTAMP:20260420T081920
CREATED:20230818T142817Z
LAST-MODIFIED:20230818T142817Z
UID:7689-1696377600-1696636799@www.forchellilaw.com
SUMMARY:Long Island Business Development Council: 53rd Economic Development Conference
DESCRIPTION:The Long Island Business Development Council presents its 53rd conference\, bringing together business\, education\, economic development and government leaders for always-lively discussions in sessions on the region’s top sectors\, the economy and more. \nThe 2023 conference will be held at Montauk Yacht Club & Marina on October 4 – 6\, 2023.
URL:https://www.forchellilaw.com/event/long-island-business-development-council-53rd-economic-development-conference/
LOCATION:Montauk Yacht Club & Marina\, 32 Star Island Road\, Montauk\, NY\, 11954\, United States
ATTACH;FMTTYPE=image/jpeg:https://www.forchellilaw.com/wp-content/uploads/2023/08/LIBDC-Logo-2021-500x2321-1.jpg
END:VEVENT
BEGIN:VEVENT
DTSTART;TZID=America/New_York:20231011T180000
DTEND;TZID=America/New_York:20231011T193000
DTSTAMP:20260420T081920
CREATED:20231018T191736Z
LAST-MODIFIED:20231018T191736Z
UID:7865-1697047200-1697052600@www.forchellilaw.com
SUMMARY:FDT Hosts Brooklyn Law School Long Island Alumni Reception
DESCRIPTION:Meet Dean D. David Meyer: Long Island Alumni Reception at Forchelli Deegan Terrana LLP \n  \nForchelli Deegan Terrana LLP proudly hosts an alumni networking event at our office in Uniondale to welcome David D. Meyer\, President and Joseph Crea Dean of Brooklyn Law School. \nYou can view more of the photos from the event on the BLS website.
URL:https://www.forchellilaw.com/event/fdt-hosts-brooklyn-law-school-long-island-alumni-reception/
LOCATION:Forchelli Deegan Terrana LLP\, The OMNI\, 333 Earle Ovington Blvd.\, Suite 1010\, Uniondale\, NY\, 11553\, United States
ATTACH;FMTTYPE=image/png:https://www.forchellilaw.com/wp-content/uploads/2023/10/BLS-Alumni-Dean-101123.png
ORGANIZER;CN="Brooklyn Law School":MAILTO:alumni@brooklaw.edu
END:VEVENT
BEGIN:VEVENT
DTSTART;TZID=America/New_York:20231013T110000
DTEND;TZID=America/New_York:20231013T143000
DTSTAMP:20260420T081920
CREATED:20231018T192352Z
LAST-MODIFIED:20231018T192352Z
UID:7871-1697194800-1697207400@www.forchellilaw.com
SUMMARY:LIA Fall Luncheon
DESCRIPTION:FDT proudly sponsors the Long Island Association Fall Luncheon featuring guest speaker: \nDavid Beckham\, \nBusinessman\, Philanthropist \nand former Captain\, \nEnglish National Soccer team
URL:https://www.forchellilaw.com/event/lia-fall-luncheon/
LOCATION:Crest Hollow Country Club\, 8325 Jericho Turnpike\, Woodbury\, NY\, 11797\, United States
ORGANIZER;CN="Long Island Association":MAILTO:info@longislandassociation.org
END:VEVENT
BEGIN:VEVENT
DTSTART;TZID=America/New_York:20231015T080000
DTEND;TZID=America/New_York:20231015T120000
DTSTAMP:20260420T081920
CREATED:20230818T143743Z
LAST-MODIFIED:20230823T154923Z
UID:7694-1697356800-1697371200@www.forchellilaw.com
SUMMARY:American Cancer Society’s Making Strides Against Breast Cancer Event
DESCRIPTION:Join us at the American Cancer Society’s Making Strides Against Breast Cancer 5K walk held at Jones Beach in Wantagh. Every year the firm raises thousands for the charity and sponsors walkers.
URL:https://www.forchellilaw.com/event/american-cancer-societys-making-strides-against-breast-cancer-event/
LOCATION:Jones Beach\, Wantagh\, NY\, United States
ATTACH;FMTTYPE=image/png:https://www.forchellilaw.com/wp-content/uploads/2023/08/Breast-Cancer-Awareness-2022-.png
END:VEVENT
BEGIN:VEVENT
DTSTART;TZID=America/New_York:20231019T180000
DTEND;TZID=America/New_York:20231019T210000
DTSTAMP:20260420T081920
CREATED:20231002T190151Z
LAST-MODIFIED:20231002T190151Z
UID:7803-1697738400-1697749200@www.forchellilaw.com
SUMMARY:MBAofNY Annual Wine Gala
DESCRIPTION:FDT proudly sponsors the Mortgage Bankers Association of New York’s 75th Annual Wine Gala.
URL:https://www.forchellilaw.com/event/mbaofny-annual-wine-gala/
LOCATION:NY Public Library\, Celeste Bartos Forum\, 476 5th Ave.\,\, New York\, NY\, 10018\, United States
ATTACH;FMTTYPE=image/jpeg:https://www.forchellilaw.com/wp-content/uploads/2023/10/2023-Wine-Gala-EBlast-Graphic-Landscape.jpg
ORGANIZER;CN="Mortgage Bankers Association of New York":MAILTO:info@mbany.org
END:VEVENT
BEGIN:VEVENT
DTSTART;TZID=America/New_York:20231020T110000
DTEND;TZID=America/New_York:20231020T140000
DTSTAMP:20260420T081920
CREATED:20231018T192918Z
LAST-MODIFIED:20231018T192918Z
UID:7875-1697799600-1697810400@www.forchellilaw.com
SUMMARY:Real Estate Institute (REI) Fall Luncheon
DESCRIPTION:FDT proudly sponsors the upcoming Real Estate Institute (REI) Fall Luncheon: “Reimagining the Modern Office Space.”
URL:https://www.forchellilaw.com/event/reisbu-fall-luncheon-2023/
LOCATION:Heritage Club at Bethpage\, 99 Quaker Meeting House Rd.\, Farmingdale\, NY\, 11735\, United States
ATTACH;FMTTYPE=image/png:https://www.forchellilaw.com/wp-content/uploads/2023/10/Final20Fall20Luncheon20Flyer2020231.png
ORGANIZER;CN="REI%3ASBU":MAILTO:reistonybrook@gmail.com
END:VEVENT
BEGIN:VEVENT
DTSTART;TZID=America/New_York:20231025T180000
DTEND;TZID=America/New_York:20231025T190000
DTSTAMP:20260420T081920
CREATED:20231018T193436Z
LAST-MODIFIED:20231018T193727Z
UID:7878-1698256800-1698260400@www.forchellilaw.com
SUMMARY:Hofstra Law: Trusts & Estates Litigation
DESCRIPTION:Cheryl L. Katz-Erato\, Tax Trusts & Estates partner at Forchelli Deegan Terrana LLP\, will be giving a presentation on trusts and estates litigation to students at Hofstra Law. During her time at Hofstra\, Cheryl discovered her passion for Trusts and Estates. Although her classes provided a solid foundation\, she benefited greatly from guest speakers who shared their real-life experiences. Cheryl is committed to supporting current law students and recent graduates by actively participating in the alumni group at her alma mater.
URL:https://www.forchellilaw.com/event/hofstra-law-trusts-estates-litigation/
LOCATION:Maurice A. Deane School of Law\, 121 Hofstra University\, Hempstead\, NY\, 11549\, United States
ATTACH;FMTTYPE=image/png:https://www.forchellilaw.com/wp-content/uploads/2023/10/CLK-Hofstra-Law-102523.png
END:VEVENT
END:VCALENDAR