BEGIN:VCALENDAR
VERSION:2.0
PRODID:-//Forchelli Deegan Terrana Law - ECPv6.15.20//NONSGML v1.0//EN
CALSCALE:GREGORIAN
METHOD:PUBLISH
X-WR-CALNAME:Forchelli Deegan Terrana Law
X-ORIGINAL-URL:https://www.forchellilaw.com
X-WR-CALDESC:Events for Forchelli Deegan Terrana Law
REFRESH-INTERVAL;VALUE=DURATION:PT1H
X-Robots-Tag:noindex
X-PUBLISHED-TTL:PT1H
BEGIN:VTIMEZONE
TZID:America/New_York
BEGIN:DAYLIGHT
TZOFFSETFROM:-0500
TZOFFSETTO:-0400
TZNAME:EDT
DTSTART:20170312T070000
END:DAYLIGHT
BEGIN:STANDARD
TZOFFSETFROM:-0400
TZOFFSETTO:-0500
TZNAME:EST
DTSTART:20171105T060000
END:STANDARD
BEGIN:DAYLIGHT
TZOFFSETFROM:-0500
TZOFFSETTO:-0400
TZNAME:EDT
DTSTART:20180311T070000
END:DAYLIGHT
BEGIN:STANDARD
TZOFFSETFROM:-0400
TZOFFSETTO:-0500
TZNAME:EST
DTSTART:20181104T060000
END:STANDARD
BEGIN:DAYLIGHT
TZOFFSETFROM:-0500
TZOFFSETTO:-0400
TZNAME:EDT
DTSTART:20190310T070000
END:DAYLIGHT
BEGIN:STANDARD
TZOFFSETFROM:-0400
TZOFFSETTO:-0500
TZNAME:EST
DTSTART:20191103T060000
END:STANDARD
END:VTIMEZONE
BEGIN:VEVENT
DTSTART;TZID=America/New_York:20180815T130000
DTEND;TZID=America/New_York:20180815T143000
DTSTAMP:20260422T183823
CREATED:20180620T162222Z
LAST-MODIFIED:20230426T153520Z
UID:3982-1534338000-1534343400@www.forchellilaw.com
SUMMARY:Real Estate Summer Series Session CLE by John P. Bues
DESCRIPTION:Session 7 is entitled\, “Mockery of a Closing.” In this session\, participants will have the opportunity to act out a closing fraught with difficulty and learn strategies to resolve them. \nFaculty:\nJohn P. Bues\, Esq.\, Associate\, Forchelli Deegan Terrana LLP\nGerard McCreight\, Esq.\nPeter D. Tamsen\, Esq. \nCLE Credit: 1.5 Professional Practice\nThis session is suitable for transitional and non-transitional attorneys. \nNotes:\nA light lunch will be served.\n$45 SCBA members; $60 non-members; Law student members are complimentary.\nSession will also be available via webcast and recording.
URL:https://www.forchellilaw.com/event/real-estate-summer-series-session-cle-by-john-p-bues/
LOCATION:Suffolk County Bar Association\, 560 Wheeler Road\, Hauppauge\, NY\, 11788\, United States
END:VEVENT
END:VCALENDAR