BEGIN:VCALENDAR
VERSION:2.0
PRODID:-//Forchelli Deegan Terrana Law - ECPv6.15.20//NONSGML v1.0//EN
CALSCALE:GREGORIAN
METHOD:PUBLISH
X-WR-CALNAME:Forchelli Deegan Terrana Law
X-ORIGINAL-URL:https://www.forchellilaw.com
X-WR-CALDESC:Events for Forchelli Deegan Terrana Law
REFRESH-INTERVAL;VALUE=DURATION:PT1H
X-Robots-Tag:noindex
X-PUBLISHED-TTL:PT1H
BEGIN:VTIMEZONE
TZID:America/New_York
BEGIN:DAYLIGHT
TZOFFSETFROM:-0500
TZOFFSETTO:-0400
TZNAME:EDT
DTSTART:20170312T070000
END:DAYLIGHT
BEGIN:STANDARD
TZOFFSETFROM:-0400
TZOFFSETTO:-0500
TZNAME:EST
DTSTART:20171105T060000
END:STANDARD
BEGIN:DAYLIGHT
TZOFFSETFROM:-0500
TZOFFSETTO:-0400
TZNAME:EDT
DTSTART:20180311T070000
END:DAYLIGHT
BEGIN:STANDARD
TZOFFSETFROM:-0400
TZOFFSETTO:-0500
TZNAME:EST
DTSTART:20181104T060000
END:STANDARD
BEGIN:DAYLIGHT
TZOFFSETFROM:-0500
TZOFFSETTO:-0400
TZNAME:EDT
DTSTART:20190310T070000
END:DAYLIGHT
BEGIN:STANDARD
TZOFFSETFROM:-0400
TZOFFSETTO:-0500
TZNAME:EST
DTSTART:20191103T060000
END:STANDARD
END:VTIMEZONE
BEGIN:VTIMEZONE
TZID:America/New_York
BEGIN:DAYLIGHT
TZOFFSETFROM:-0500
TZOFFSETTO:-0400
TZNAME:EDT
DTSTART:20170312T070000
END:DAYLIGHT
BEGIN:STANDARD
TZOFFSETFROM:-0400
TZOFFSETTO:-0500
TZNAME:EST
DTSTART:20171105T060000
END:STANDARD
BEGIN:DAYLIGHT
TZOFFSETFROM:-0500
TZOFFSETTO:-0400
TZNAME:EDT
DTSTART:20180311T070000
END:DAYLIGHT
BEGIN:STANDARD
TZOFFSETFROM:-0400
TZOFFSETTO:-0500
TZNAME:EST
DTSTART:20181104T060000
END:STANDARD
BEGIN:DAYLIGHT
TZOFFSETFROM:-0500
TZOFFSETTO:-0400
TZNAME:EDT
DTSTART:20190310T070000
END:DAYLIGHT
BEGIN:STANDARD
TZOFFSETFROM:-0400
TZOFFSETTO:-0500
TZNAME:EST
DTSTART:20191103T060000
END:STANDARD
END:VTIMEZONE
BEGIN:VEVENT
DTSTART;TZID=America/New_York:20181101T193000
DTEND;TZID=America/New_York:20181101T230000
DTSTAMP:20260420T115308
CREATED:20181022T203611Z
LAST-MODIFIED:20181022T203948Z
UID:4370-1541100600-1541113200@www.forchellilaw.com
SUMMARY:LIVMA CE Meeting: New Required NYS Employment Legislation
DESCRIPTION:Forchelli Deegan Terrana LLP (FDT) Employment & Labor law partners Gregory S. Lisi and Elbert F. Nasis will be leading this legislation update\, which may impact your veterinary medical business. \nGreg will discuss NYS’ new legislation\, which heightens employer obligations to prevent sexual harassment. \nElbert will discuss the interviewing best practices. \n2.5 CE Credit Hours. The content and opinions of the Continuing Education speakers are not necessarily a reflection of the views of the LIVMA Executive Board. LIVMA welcomes Veterinary Technicians and support staff to attend its Continuing Education programs. Staff can attend by either becoming LIVMA Supporters or pay at the door.\n \nAgenda\n7:30 p.m. dinner\n8:00 p.m. business meeting\n8:15 p.m. CE program \nClick here to register. Registrations are requested by 10/29/18. \nRegistration Fee\nFree for LIVMA members\n$25 for non-members\n*Non-member veterinarians must join at least one week prior to the start of any CE program to attend for free. Contact NYSVMS at (518) 869-7867 regarding membership.
URL:https://www.forchellilaw.com/event/livma-ce-meeting-new-required-nys-employment-legislation/
LOCATION:Clarion Hotel & Conference Center\, 3845 Veterans Memorial Highway\, Ronkonkoma\, 11779\, United States
ATTACH;FMTTYPE=image/jpeg:https://www.forchellilaw.com/wp-content/uploads/2018/10/LIVMA-logo.jpg
ORGANIZER;CN="LIVMA":MAILTO:livmahelp@gmail.com
END:VEVENT
BEGIN:VEVENT
DTSTART;TZID=America/New_York:20181101T130000
DTEND;TZID=America/New_York:20181101T140000
DTSTAMP:20260420T115308
CREATED:20180912T220837Z
LAST-MODIFIED:20180912T222101Z
UID:4229-1541077200-1541080800@www.forchellilaw.com
SUMMARY:Dean's Hour: Appellate Practice - Recent Updates & Electronic Filing Requirements
DESCRIPTION:Hon. Peter B. Skelos (Ret.)\, a Litigation partner at Forchelli Deegan Terrana LLP\, will be moderating. He was an Associate Justice of the Appellate Division of the New York State Supreme Court\, Second Judicial Department. \nEric J. Kuperman\, Esq.\, Executive Vice President of Sales\, and John McGorty\, Executive Vice President of Business Development\, at PrintingHouse Press will be presenting. \nThe speakers will discuss the new electronic filing requirements in the Appellate Courts. \nAttendees will receive 1.0 CLE credit in Professional Practice or Skills. \nRegistration fee applies to non-members. \nThis Dean’s Hour will be co-sponsored by the Nassau Academy of Law and the Nassau County Bar Association’s Appellate Practice Committee.
URL:https://www.forchellilaw.com/event/deans-hour-appellate-practice-recent-updates-electronic-filing-requirements/
LOCATION:Nassau County Bar Association\, 15th & West Streets\, Mineola\, NY\, 11501\, United States
ORGANIZER;CN="academy@nassaubar.org":MAILTO:academy@nassaubar.org
END:VEVENT
BEGIN:VEVENT
DTSTART;TZID=America/New_York:20181030T173000
DTEND;TZID=America/New_York:20181030T200000
DTSTAMP:20260420T115308
CREATED:20181008T234109Z
LAST-MODIFIED:20181010T231418Z
UID:4355-1540920600-1540929600@www.forchellilaw.com
SUMMARY:CLE Seminar: Due Diligence and Residential Real Estate Contracts
DESCRIPTION:Don’t sign the contracts before attending this CLE! \nThis CLE seminar is presented by the Asian American Bar Association of New York’s (AABANY) Real Estate and Solo & Small Firm Committees\, the Korean American Lawyers Association of Greater New York (KALAGNY) and Big Apple Abstract Corp. \nSpeakers include Margaret T. Ling\, Esq.\, Senior Counsel at Big Apple Abstract Corp. and Robert L. Renda\, a Tax Certiorari Associate at Forchelli Deegan Terrana LLP. Light refreshments will be served. \n1.0 CLE credit in Ethics\n\nAABANY is certified by the New York State Continuing Legal Education Board as an Accredited CLE Provider. This CLE seminar has been approved in accordance with the requirements of the CLE Board for one credit hour\, of which one credit hour can be applied toward the Ethics requirement. This seminar is suitable for both transitional and non-transitional New York attorneys.
URL:https://www.forchellilaw.com/event/cle-seminar-due-diligence-and-residential-real-estate-contracts/
LOCATION:Flushing Bank\, 164-20 Northern Boulevard\, Flushing\, NY\, 11358\, United States
ATTACH;FMTTYPE=image/jpeg:https://www.forchellilaw.com/wp-content/uploads/2018/10/robert-renda@2x-1-1-e1539042491463.jpg
ORGANIZER;CN="Margaret Ling":MAILTO:margaret.ling@aabany.org
END:VEVENT
BEGIN:VEVENT
DTSTART;TZID=America/New_York:20181024T123000
DTEND;TZID=America/New_York:20181024T140000
DTSTAMP:20260420T115308
CREATED:20181025T212721Z
LAST-MODIFIED:20181025T212821Z
UID:4394-1540384200-1540389600@www.forchellilaw.com
SUMMARY:Douglas W. Atkins Speaks at NCBA Tax Law Committee Meeting
DESCRIPTION:Forchelli Deegan Terrana LLP Tax Certiorari partner Douglas W. Atkins spoke to the Nassau County Bar Association’s Tax Law Committee regarding intersections of real estate tax law and income tax law\, including advanced tax planning.
URL:https://www.forchellilaw.com/event/douglas-w-atkins-speaks-at-ncba-tax-law-committee-meeting/
LOCATION:Nassau County Bar Association\, 15th & West Streets\, Mineola\, NY\, 11501\, United States
ATTACH;FMTTYPE=image/jpeg:https://www.forchellilaw.com/wp-content/uploads/2018/10/douglas-atkins.jpg
ORGANIZER;CN="info@nassaubar.org":MAILTO:info@nassaubar.org
END:VEVENT
BEGIN:VEVENT
DTSTART;TZID=America/New_York:20181015T123000
DTEND;TZID=America/New_York:20181015T140000
DTSTAMP:20260420T115308
CREATED:20181024T155720Z
LAST-MODIFIED:20181024T203338Z
UID:4381-1539606600-1539612000@www.forchellilaw.com
SUMMARY:Douglas W. Atkins Speaks on Recent Developments in Nassau County Assessment
DESCRIPTION:Forchelli Deegan Terrana LLP Tax Certiorari partner Douglas W. Atkins spoke at the Nassau County Bar Association’s Condemnation and Tax Certiorari Law Committee’s October meeting. Mr. Atkins is the chairman of that Committee. One of the topics he discussed was the upcoming county-wide assessment revaluation for all commercial and residential properties. \nMr. Atkins has extensive experience in property tax reduction proceedings for all types of commercial real estate. He has handled complex cases for specialty properties\, including golf courses\, cellular towers\, self-storage facilities\, nursing homes and condominium communities. Mr. Atkins also advises property owners and municipalities on the negotiation and tax impact of Industrial Development Agency (IDA) Payment In Lieu Of Taxes (PILOT) agreements. \n  \n 
URL:https://www.forchellilaw.com/event/douglas-w-atkins-speaks-on-recent-developments-in-nassau-county-assessment/
LOCATION:Nassau County Bar Association\, 15th & West Streets\, Mineola\, NY\, 11501\, United States
ATTACH;FMTTYPE=image/jpeg:https://www.forchellilaw.com/wp-content/uploads/2018/10/douglas-atkins.jpg
ORGANIZER;CN="info@nassaubar.org":MAILTO:info@nassaubar.org
END:VEVENT
BEGIN:VEVENT
DTSTART;TZID=America/New_York:20181004T170000
DTEND;TZID=America/New_York:20181004T200000
DTSTAMP:20260420T115308
CREATED:20180919T204059Z
LAST-MODIFIED:20180919T210933Z
UID:4275-1538672400-1538683200@www.forchellilaw.com
SUMMARY:Retire Wise
DESCRIPTION:Attendees will hear from financial and legal professionals as well as real estate experts from some of the top retirement and investment destinations in the United States. Robert B. Moy\, a partner at Forchelli Deegan Terrana LLP\, will be speaking on estate tax considerations. \nOther presenters include:\nBryan Rosen\, CASL\, Financial Planner\nMayi de la Vega\, Owner/Broker\, ONE SIR (Florida)\nKelli Weis\, Director of Sales & Marketing\, Celia Dunn SIR (South Carolina)\nJudy Collins\, Sales Associate\, Celia Dunn SIR (Georgia)\nChristine Petersen\, General Manager Global Relocation and Referrals\, Daniel Gale SIR (Long Island) \nAgenda\n5:00 p.m. cocktails & hors d’oeuvres\n6:00 p.m. – 8:00 p.m. presentation \nThis program is co-presented by Daniel Gale Sotheby’s International Realty and Forchelli Deegan Terrana LLP.
URL:https://www.forchellilaw.com/event/retire-wise/
LOCATION:The OMNI\, 333 Earle Ovington Blvd.\, Uniondale\, NY\, 11553\, United States
ORGANIZER;CN="Lynda Stubbolo":MAILTO:LyndaStubbolo@danielgale.com
END:VEVENT
BEGIN:VEVENT
DTSTART;TZID=America/New_York:20180925T180000
DTEND;TZID=America/New_York:20180925T203000
DTSTAMP:20260420T115308
CREATED:20180912T224615Z
LAST-MODIFIED:20230426T153539Z
UID:4234-1537898400-1537907400@www.forchellilaw.com
SUMMARY:Signature CLE: Friend or Foe: Tailoring Your Agreements Accordingly
DESCRIPTION:Agreements are a key aspect of any business relationship\, but what happens when the parties no longer agree? Preparing for that contingency when drafting agreements can make all the difference. Should you include mediation provisions\, or focus on jurisdiction and venue provisions for litigation as your exclusive means for resolving a dispute? Understanding the strategic goals of a business relationship can help you decide on the most advantageous way to resolve any disputes that arise and ensure that important customer and supplier relationships continue for the long-term success of your business. \nHon. Peter B. Skelos (Ret.)\, a Litigation partner at Forchelli Deegan Terrana LLP\, and former Associate Justice of the Appellate Division of the New York State Supreme Court\, 2nd Department\, will be a speaker. \nSpeakers from Crowell & Moring LLP include Sarah Gilbert\, Anne Elise Herold Li and Paul Pollock. \nAgenda\n6:00 p.m. to 6:30 p.m. Registration\n6:30 p.m. to 7:30 p.m. Program\n7:30 p.m. to 8:30 p.m. Networking/Social \nAttendees will receive 1.0 CLE credit in Skills. \nTickets are free for members; $50 for non-members. Registrants must be in-house counsel. \n 
URL:https://www.forchellilaw.com/event/signature-cle-friend-or-foe-tailoring-your-agreements-accordingly/
LOCATION:Crowell & Moring LLP\, 590 Madison Avenue\, 20th Floor\, New York\, NY\, 10022\, United States
END:VEVENT
BEGIN:VEVENT
DTSTART;TZID=America/New_York:20180925T083000
DTEND;TZID=America/New_York:20180925T100000
DTSTAMP:20260420T115308
CREATED:20181002T164810Z
LAST-MODIFIED:20181023T145052Z
UID:4343-1537864200-1537869600@www.forchellilaw.com
SUMMARY:Daniel Dornfeld Presented on Leasing Pitfalls to the Commercial Network of the Long Island Board of Realtors
DESCRIPTION:Douglas Atkins and Daniel Dornfeld attended the Commercial Network of the Long Island Board of Realtors’ (CNLIBOR) meeting. Dan and the commercial brokers in attendance discussed common leasing pitfalls\, which cause problems for brokers and disputes with landlords.  \nForchelli Deegan Terrana is a proud CNLIBOR sponsor. Doug is a member of this Network. \nDaniel S. Dornfeld is a partner in FDT’s Real Estate and IDA Benefits & Government Incentives practice groups. He concentrates his practice on commercial real estate\, development and related litigation. Dan handles commercial mortgages\, loan workouts\, purchase and sale agreements\, IDA transactions and leases.
URL:https://www.forchellilaw.com/event/daniel-dornfeld-presented-on-leasing-pitfalls-to-the-commercial-network-of-the-long-island-board-of-realtors/
LOCATION:On Parade Diner\, 7980 Jericho Turnpike\, Woodbury\, NY\, 11797\, United States
ATTACH;FMTTYPE=image/jpeg:https://www.forchellilaw.com/wp-content/uploads/2018/10/daniel-dornfield.jpg
ORGANIZER;CN="Long Island Board of Realtors":MAILTO:chaptersanddivisions@lirealtor.com
END:VEVENT
BEGIN:VEVENT
DTSTART;TZID=America/New_York:20180920T180000
DTEND;TZID=America/New_York:20180920T180000
DTSTAMP:20260420T115308
CREATED:20180912T205742Z
LAST-MODIFIED:20180912T210051Z
UID:4223-1537466400-1537466400@www.forchellilaw.com
SUMMARY:The Do's and Don't's of Mediation
DESCRIPTION:Hon. Peter B. Skelos (Ret.) will be presenting to members of the Long Beach Lawyers Association and their guests. Judge Skelos is a Litigation partner at Forchelli Deegan Terrana LLP and an Arbitrator & Mediator at NAM (National Arbitration and Mediation). \nFee includes presentation\, dinner and cocktails. Registrants may pay by cash or check. Make checks payable to Long Beach Lawyers Association.
URL:https://www.forchellilaw.com/event/the-dos-and-donts-of-mediation/
LOCATION:Jetty Bar & Grill\, 832 W. Beech Street\, Long Beach\, NY\, 11561\, United States
ORGANIZER;CN="George DeHaven":MAILTO:george.dehaven@rivkin.com
END:VEVENT
BEGIN:VEVENT
DTSTART;TZID=America/New_York:20180815T130000
DTEND;TZID=America/New_York:20180815T143000
DTSTAMP:20260420T115308
CREATED:20180620T162222Z
LAST-MODIFIED:20230426T153520Z
UID:3982-1534338000-1534343400@www.forchellilaw.com
SUMMARY:Real Estate Summer Series Session CLE by John P. Bues
DESCRIPTION:Session 7 is entitled\, “Mockery of a Closing.” In this session\, participants will have the opportunity to act out a closing fraught with difficulty and learn strategies to resolve them. \nFaculty:\nJohn P. Bues\, Esq.\, Associate\, Forchelli Deegan Terrana LLP\nGerard McCreight\, Esq.\nPeter D. Tamsen\, Esq. \nCLE Credit: 1.5 Professional Practice\nThis session is suitable for transitional and non-transitional attorneys. \nNotes:\nA light lunch will be served.\n$45 SCBA members; $60 non-members; Law student members are complimentary.\nSession will also be available via webcast and recording.
URL:https://www.forchellilaw.com/event/real-estate-summer-series-session-cle-by-john-p-bues/
LOCATION:Suffolk County Bar Association\, 560 Wheeler Road\, Hauppauge\, NY\, 11788\, United States
END:VEVENT
END:VCALENDAR