BEGIN:VCALENDAR
VERSION:2.0
PRODID:-//Forchelli Deegan Terrana Law - ECPv6.15.20//NONSGML v1.0//EN
CALSCALE:GREGORIAN
METHOD:PUBLISH
X-WR-CALNAME:Forchelli Deegan Terrana Law
X-ORIGINAL-URL:https://www.forchellilaw.com
X-WR-CALDESC:Events for Forchelli Deegan Terrana Law
REFRESH-INTERVAL;VALUE=DURATION:PT1H
X-Robots-Tag:noindex
X-PUBLISHED-TTL:PT1H
BEGIN:VTIMEZONE
TZID:America/New_York
BEGIN:DAYLIGHT
TZOFFSETFROM:-0500
TZOFFSETTO:-0400
TZNAME:EDT
DTSTART:20220313T070000
END:DAYLIGHT
BEGIN:STANDARD
TZOFFSETFROM:-0400
TZOFFSETTO:-0500
TZNAME:EST
DTSTART:20221106T060000
END:STANDARD
BEGIN:DAYLIGHT
TZOFFSETFROM:-0500
TZOFFSETTO:-0400
TZNAME:EDT
DTSTART:20230312T070000
END:DAYLIGHT
BEGIN:STANDARD
TZOFFSETFROM:-0400
TZOFFSETTO:-0500
TZNAME:EST
DTSTART:20231105T060000
END:STANDARD
BEGIN:DAYLIGHT
TZOFFSETFROM:-0500
TZOFFSETTO:-0400
TZNAME:EDT
DTSTART:20240310T070000
END:DAYLIGHT
BEGIN:STANDARD
TZOFFSETFROM:-0400
TZOFFSETTO:-0500
TZNAME:EST
DTSTART:20241103T060000
END:STANDARD
END:VTIMEZONE
BEGIN:VEVENT
DTSTART;TZID=America/New_York:20230726T080000
DTEND;TZID=America/New_York:20230726T200000
DTSTAMP:20260424T233506
CREATED:20230727T144954Z
LAST-MODIFIED:20230727T144954Z
UID:7644-1690358400-1690401600@www.forchellilaw.com
SUMMARY:Annual McNamara Charity Golf Outing 2023
DESCRIPTION:FDT proudly sponsors the Annual McNamara Charity Golf Outing benefiting Veterans\, First Responders and their families through Veteran charities.
URL:https://www.forchellilaw.com/event/annual-mcnamara-charity-golf-outing-2023/
LOCATION:Heritage Club at Bethpage\, 99 Quaker Meeting House Rd.\, Farmingdale\, NY\, 11735\, United States
ATTACH;FMTTYPE=image/png:https://www.forchellilaw.com/wp-content/uploads/2023/07/Paws-of-War-Event-Sponsors-072623.png
END:VEVENT
BEGIN:VEVENT
DTSTART;TZID=America/New_York:20230726T183000
DTEND;TZID=America/New_York:20230726T213000
DTSTAMP:20260424T233506
CREATED:20230622T145326Z
LAST-MODIFIED:20230714T133352Z
UID:7566-1690396200-1690407000@www.forchellilaw.com
SUMMARY:VMANYC Big Apple Veterinary Mixer
DESCRIPTION:Forchelli Deegan Terrana LLP’s Veterinary Practice Group proudly sponsors the Veterinary Medical Association of New York City’s (VMANYC)  Big Apple Veterinary Mixer at Dear Irving on Hudson Rooftop Bar.
URL:https://www.forchellilaw.com/event/vmanyc-big-apple-veterinary-mixer/
LOCATION:Dear Irving on Hudson Rooftop Bar\, 310 West 40th Street\, New York\, NY\, 10018\, United States
ATTACH;FMTTYPE=image/png:https://www.forchellilaw.com/wp-content/uploads/2023/06/VMANYC-Big-Apple-Veterinary-Mixer-2023.png
END:VEVENT
END:VCALENDAR