BEGIN:VCALENDAR
VERSION:2.0
PRODID:-//Forchelli Deegan Terrana Law - ECPv6.15.20//NONSGML v1.0//EN
CALSCALE:GREGORIAN
METHOD:PUBLISH
X-WR-CALNAME:Forchelli Deegan Terrana Law
X-ORIGINAL-URL:https://www.forchellilaw.com
X-WR-CALDESC:Events for Forchelli Deegan Terrana Law
REFRESH-INTERVAL;VALUE=DURATION:PT1H
X-Robots-Tag:noindex
X-PUBLISHED-TTL:PT1H
BEGIN:VTIMEZONE
TZID:America/New_York
BEGIN:DAYLIGHT
TZOFFSETFROM:-0500
TZOFFSETTO:-0400
TZNAME:EDT
DTSTART:20220313T070000
END:DAYLIGHT
BEGIN:STANDARD
TZOFFSETFROM:-0400
TZOFFSETTO:-0500
TZNAME:EST
DTSTART:20221106T060000
END:STANDARD
BEGIN:DAYLIGHT
TZOFFSETFROM:-0500
TZOFFSETTO:-0400
TZNAME:EDT
DTSTART:20230312T070000
END:DAYLIGHT
BEGIN:STANDARD
TZOFFSETFROM:-0400
TZOFFSETTO:-0500
TZNAME:EST
DTSTART:20231105T060000
END:STANDARD
BEGIN:DAYLIGHT
TZOFFSETFROM:-0500
TZOFFSETTO:-0400
TZNAME:EDT
DTSTART:20240310T070000
END:DAYLIGHT
BEGIN:STANDARD
TZOFFSETFROM:-0400
TZOFFSETTO:-0500
TZNAME:EST
DTSTART:20241103T060000
END:STANDARD
END:VTIMEZONE
BEGIN:VEVENT
DTSTART;TZID=America/New_York:20230725T160000
DTEND;TZID=America/New_York:20230725T210000
DTSTAMP:20260424T233507
CREATED:20230420T135636Z
LAST-MODIFIED:20230420T135636Z
UID:7226-1690300800-1690318800@www.forchellilaw.com
SUMMARY:Marcum Workplace Challenge
DESCRIPTION:FDT is proud to participate in The Marcum Workplace Challenge\, a 3.5 mile run-walk for charity and Long Island’s largest office picnic.
URL:https://www.forchellilaw.com/event/marcum-workplace-challenge/
LOCATION:Jones Beach\, Wantagh\, NY\, United States
ATTACH;FMTTYPE=image/jpeg:https://www.forchellilaw.com/wp-content/uploads/2023/04/Marcum2023.jpg
ORGANIZER;CN="Marcum Workplace Challenge":MAILTO:director@marcumworkplacechallenge.com
END:VEVENT
END:VCALENDAR