BEGIN:VCALENDAR
VERSION:2.0
PRODID:-//Forchelli Deegan Terrana Law - ECPv6.15.20//NONSGML v1.0//EN
CALSCALE:GREGORIAN
METHOD:PUBLISH
X-WR-CALNAME:Forchelli Deegan Terrana Law
X-ORIGINAL-URL:https://www.forchellilaw.com
X-WR-CALDESC:Events for Forchelli Deegan Terrana Law
REFRESH-INTERVAL;VALUE=DURATION:PT1H
X-Robots-Tag:noindex
X-PUBLISHED-TTL:PT1H
BEGIN:VTIMEZONE
TZID:America/New_York
BEGIN:DAYLIGHT
TZOFFSETFROM:-0500
TZOFFSETTO:-0400
TZNAME:EDT
DTSTART:20220313T070000
END:DAYLIGHT
BEGIN:STANDARD
TZOFFSETFROM:-0400
TZOFFSETTO:-0500
TZNAME:EST
DTSTART:20221106T060000
END:STANDARD
BEGIN:DAYLIGHT
TZOFFSETFROM:-0500
TZOFFSETTO:-0400
TZNAME:EDT
DTSTART:20230312T070000
END:DAYLIGHT
BEGIN:STANDARD
TZOFFSETFROM:-0400
TZOFFSETTO:-0500
TZNAME:EST
DTSTART:20231105T060000
END:STANDARD
BEGIN:DAYLIGHT
TZOFFSETFROM:-0500
TZOFFSETTO:-0400
TZNAME:EDT
DTSTART:20240310T070000
END:DAYLIGHT
BEGIN:STANDARD
TZOFFSETFROM:-0400
TZOFFSETTO:-0500
TZNAME:EST
DTSTART:20241103T060000
END:STANDARD
END:VTIMEZONE
BEGIN:VEVENT
DTSTART;TZID=America/New_York:20230621T170000
DTEND;TZID=America/New_York:20230621T173000
DTSTAMP:20260424T222216
CREATED:20230622T134239Z
LAST-MODIFIED:20230622T134239Z
UID:7560-1687366800-1687368600@www.forchellilaw.com
SUMMARY:The Voice of Uniondale Radio Show: "New York State Labor And Cannabis Law"
DESCRIPTION:Forchelli Deegan Terrana LLP partner Lisa M. Casa\, Esq. from our Employment and Labor practice group with experience in Cannabis Law will present LIVE on “New York State Labor And Cannabis Law” with The Voice of Uniondale\, host Nicole Burke on the radio. \nLisa will discuss what it takes to own/operate a cannabis retail store in NYS and who qualifies as an employee for overtime pay. \nListen live from 5:00 to 5:30 PM on WRHU\, 88.7FM.
URL:https://www.forchellilaw.com/event/the-voice-of-uniondale-radio-show-new-york-state-labor-and-cannabis-law/
LOCATION:Radio Hofstra University (WRHU)\, 1000 Hempstead Tpke\, Hempstead\, NY\, 11549-1000\, United States
ATTACH;FMTTYPE=image/png:https://www.forchellilaw.com/wp-content/uploads/2023/06/LMC-Hofstra-Radio-062123.png
END:VEVENT
END:VCALENDAR