BEGIN:VCALENDAR
VERSION:2.0
PRODID:-//Forchelli Deegan Terrana Law - ECPv6.15.20//NONSGML v1.0//EN
CALSCALE:GREGORIAN
METHOD:PUBLISH
X-WR-CALNAME:Forchelli Deegan Terrana Law
X-ORIGINAL-URL:https://www.forchellilaw.com
X-WR-CALDESC:Events for Forchelli Deegan Terrana Law
REFRESH-INTERVAL;VALUE=DURATION:PT1H
X-Robots-Tag:noindex
X-PUBLISHED-TTL:PT1H
BEGIN:VTIMEZONE
TZID:America/New_York
BEGIN:DAYLIGHT
TZOFFSETFROM:-0500
TZOFFSETTO:-0400
TZNAME:EDT
DTSTART:20220313T070000
END:DAYLIGHT
BEGIN:STANDARD
TZOFFSETFROM:-0400
TZOFFSETTO:-0500
TZNAME:EST
DTSTART:20221106T060000
END:STANDARD
BEGIN:DAYLIGHT
TZOFFSETFROM:-0500
TZOFFSETTO:-0400
TZNAME:EDT
DTSTART:20230312T070000
END:DAYLIGHT
BEGIN:STANDARD
TZOFFSETFROM:-0400
TZOFFSETTO:-0500
TZNAME:EST
DTSTART:20231105T060000
END:STANDARD
BEGIN:DAYLIGHT
TZOFFSETFROM:-0500
TZOFFSETTO:-0400
TZNAME:EDT
DTSTART:20240310T070000
END:DAYLIGHT
BEGIN:STANDARD
TZOFFSETFROM:-0400
TZOFFSETTO:-0500
TZNAME:EST
DTSTART:20241103T060000
END:STANDARD
END:VTIMEZONE
BEGIN:VEVENT
DTSTART;TZID=America/New_York:20230606T110000
DTEND;TZID=America/New_York:20230606T180000
DTSTAMP:20260424T221653
CREATED:20230123T160505Z
LAST-MODIFIED:20231204T163325Z
UID:6859-1686049200-1686074400@www.forchellilaw.com
SUMMARY:Collaborate With Edge 6th Annual Leadership Conference
DESCRIPTION:Forchelli Deegan Terrana LLP (“FDT”) is committed to moving the needle closer to women’s leadership parity. In collaboration\, we will shift the paradigm and start the change. \n \n  \n#CollaborateWithEdge #WomenSupportingWomen
URL:https://www.forchellilaw.com/event/collaborate-with-edge-6th-annual-leadership-conference/
LOCATION:Melville Marriot\, 1350 Walt Whitman Rd.\, Melville\, 11747
ATTACH;FMTTYPE=image/jpeg:https://www.forchellilaw.com/wp-content/uploads/2023/01/CWE-Header-Image.jpg
ORGANIZER;CN="Ivy Algazy":MAILTO:Ivy@ivy-network.com
END:VEVENT
END:VCALENDAR