BEGIN:VCALENDAR
VERSION:2.0
PRODID:-//Forchelli Deegan Terrana Law - ECPv6.15.20//NONSGML v1.0//EN
CALSCALE:GREGORIAN
METHOD:PUBLISH
X-ORIGINAL-URL:https://www.forchellilaw.com
X-WR-CALDESC:Events for Forchelli Deegan Terrana Law
REFRESH-INTERVAL;VALUE=DURATION:PT1H
X-Robots-Tag:noindex
X-PUBLISHED-TTL:PT1H
BEGIN:VTIMEZONE
TZID:America/New_York
BEGIN:DAYLIGHT
TZOFFSETFROM:-0500
TZOFFSETTO:-0400
TZNAME:EDT
DTSTART:20220313T070000
END:DAYLIGHT
BEGIN:STANDARD
TZOFFSETFROM:-0400
TZOFFSETTO:-0500
TZNAME:EST
DTSTART:20221106T060000
END:STANDARD
BEGIN:DAYLIGHT
TZOFFSETFROM:-0500
TZOFFSETTO:-0400
TZNAME:EDT
DTSTART:20230312T070000
END:DAYLIGHT
BEGIN:STANDARD
TZOFFSETFROM:-0400
TZOFFSETTO:-0500
TZNAME:EST
DTSTART:20231105T060000
END:STANDARD
BEGIN:DAYLIGHT
TZOFFSETFROM:-0500
TZOFFSETTO:-0400
TZNAME:EDT
DTSTART:20240310T070000
END:DAYLIGHT
BEGIN:STANDARD
TZOFFSETFROM:-0400
TZOFFSETTO:-0500
TZNAME:EST
DTSTART:20241103T060000
END:STANDARD
END:VTIMEZONE
BEGIN:VEVENT
DTSTART;TZID=America/New_York:20230519T150000
DTEND;TZID=America/New_York:20230519T153000
DTSTAMP:20260424T210004
CREATED:20230523T135047Z
LAST-MODIFIED:20230602T192842Z
UID:7475-1684508400-1684510200@www.forchellilaw.com
SUMMARY:Long Island News\, Tax Talk Radio Show (103.9FM): 5 Common Misconceptions About a Will
DESCRIPTION:Cheryl L. Katz-Erato\, Tax Trusts & Estates partner at Forchelli Deegan Terrana LLP joins “The Main Street Code for Financial Success\,” hosted by Neil Himmelstein of Main Street Planning Group for a discussion on the “5 Common Misconceptions About a Will.” \nClick here to listen to the recording from the LIVE broadcast on 103.9 L.I. News Radio \nAlso available on Audacy\, click here
URL:https://www.forchellilaw.com/event/long-island-news-tax-talk-radio-show-103-9fm-5-common-misconceptions-about-a-will/
LOCATION:LI News Radio\, Ronkonkoma\, NY\, 11779\, United States
ATTACH;FMTTYPE=image/png:https://www.forchellilaw.com/wp-content/uploads/2023/05/CKE_Li-News-Radio-051923v3.png
END:VEVENT
END:VCALENDAR