BEGIN:VCALENDAR
VERSION:2.0
PRODID:-//Forchelli Deegan Terrana Law - ECPv6.15.20//NONSGML v1.0//EN
CALSCALE:GREGORIAN
METHOD:PUBLISH
X-WR-CALNAME:Forchelli Deegan Terrana Law
X-ORIGINAL-URL:https://www.forchellilaw.com
X-WR-CALDESC:Events for Forchelli Deegan Terrana Law
REFRESH-INTERVAL;VALUE=DURATION:PT1H
X-Robots-Tag:noindex
X-PUBLISHED-TTL:PT1H
BEGIN:VTIMEZONE
TZID:America/New_York
BEGIN:DAYLIGHT
TZOFFSETFROM:-0500
TZOFFSETTO:-0400
TZNAME:EDT
DTSTART:20220313T070000
END:DAYLIGHT
BEGIN:STANDARD
TZOFFSETFROM:-0400
TZOFFSETTO:-0500
TZNAME:EST
DTSTART:20221106T060000
END:STANDARD
BEGIN:DAYLIGHT
TZOFFSETFROM:-0500
TZOFFSETTO:-0400
TZNAME:EDT
DTSTART:20230312T070000
END:DAYLIGHT
BEGIN:STANDARD
TZOFFSETFROM:-0400
TZOFFSETTO:-0500
TZNAME:EST
DTSTART:20231105T060000
END:STANDARD
BEGIN:DAYLIGHT
TZOFFSETFROM:-0500
TZOFFSETTO:-0400
TZNAME:EDT
DTSTART:20240310T070000
END:DAYLIGHT
BEGIN:STANDARD
TZOFFSETFROM:-0400
TZOFFSETTO:-0500
TZNAME:EST
DTSTART:20241103T060000
END:STANDARD
END:VTIMEZONE
BEGIN:VEVENT
DTSTART;TZID=America/New_York:20230504T080000
DTEND;TZID=America/New_York:20230504T110000
DTSTAMP:20260424T192505
CREATED:20230504T181804Z
LAST-MODIFIED:20230504T181804Z
UID:7406-1683187200-1683198000@www.forchellilaw.com
SUMMARY:CIBS Real Estate Roundtable
DESCRIPTION:FDT proudly sponsors the CIBS Real Estate Roundtable. \nAndrea Tsoukalas Curto\, Esq.\, Partner in FDT’s Land Use & Zoning practice group presented on The Importance of Early Stage Zoning Due Diligence When Purchasing or Leasing Commercial Property for the educational table topics.
URL:https://www.forchellilaw.com/event/cibs-real-estate-roundtable/
LOCATION:Damianos Realty Group\, 100 Motor Parkway\, Hauppauge\, NY\, 11788\, United States
ATTACH;FMTTYPE=image/jpeg:https://www.forchellilaw.com/wp-content/uploads/2023/05/CIBS_Roundtable_v31.jpg
ORGANIZER;CN="CIBS":MAILTO:cmajid@cibs-li.com
END:VEVENT
END:VCALENDAR