BEGIN:VCALENDAR
VERSION:2.0
PRODID:-//Forchelli Deegan Terrana Law - ECPv6.15.20//NONSGML v1.0//EN
CALSCALE:GREGORIAN
METHOD:PUBLISH
X-WR-CALNAME:Forchelli Deegan Terrana Law
X-ORIGINAL-URL:https://www.forchellilaw.com
X-WR-CALDESC:Events for Forchelli Deegan Terrana Law
REFRESH-INTERVAL;VALUE=DURATION:PT1H
X-Robots-Tag:noindex
X-PUBLISHED-TTL:PT1H
BEGIN:VTIMEZONE
TZID:America/New_York
BEGIN:DAYLIGHT
TZOFFSETFROM:-0500
TZOFFSETTO:-0400
TZNAME:EDT
DTSTART:20220313T070000
END:DAYLIGHT
BEGIN:STANDARD
TZOFFSETFROM:-0400
TZOFFSETTO:-0500
TZNAME:EST
DTSTART:20221106T060000
END:STANDARD
BEGIN:DAYLIGHT
TZOFFSETFROM:-0500
TZOFFSETTO:-0400
TZNAME:EDT
DTSTART:20230312T070000
END:DAYLIGHT
BEGIN:STANDARD
TZOFFSETFROM:-0400
TZOFFSETTO:-0500
TZNAME:EST
DTSTART:20231105T060000
END:STANDARD
BEGIN:DAYLIGHT
TZOFFSETFROM:-0500
TZOFFSETTO:-0400
TZNAME:EDT
DTSTART:20240310T070000
END:DAYLIGHT
BEGIN:STANDARD
TZOFFSETFROM:-0400
TZOFFSETTO:-0500
TZNAME:EST
DTSTART:20241103T060000
END:STANDARD
END:VTIMEZONE
BEGIN:VEVENT
DTSTART;TZID=America/New_York:20230331T080000
DTEND;TZID=America/New_York:20230331T103000
DTSTAMP:20260424T150745
CREATED:20230324T140207Z
LAST-MODIFIED:20230324T140207Z
UID:7147-1680249600-1680258600@www.forchellilaw.com
SUMMARY:ADDAPT Long Island Business Development Town Hall
DESCRIPTION:ADDAPT INVITES YOU TO OUR BUSINESS DEVELOPMENT TOWN HALL\nFriday\, March 31st\, 8:00am to 10:30am\nThe Cradle of Aviation Museum\,\nCharles Lindbergh Blvd\, Garden City\, NY 11530 \nFeatured Speaker: Congressman Nick LaLota\, 1st CD\, Member House Armed Services Committee \nVice Admiral John Mustin\, Chief of Navy Reserve\, Office of the Chief of Naval Operations \nRobert Sopp\, EVP/GM of AAR Corporation.\nDonna Linke-Klein\, Senior Product Line Director BAE Systems.\nWalker Potts\, Executive Director of The Naval & Maritime Consortium. \n  \nNetwork with National and Local Industry Leaders. Hear presentations on the State of LI’s Aerospace & Defense Industries.
URL:https://www.forchellilaw.com/event/addapt-long-island-business-development-town-hall/
LOCATION:The Cradle of Aviation Museum\, Charles Lindbergh Blvd\, Garden City\, NY\, 11530\, United States
ATTACH;FMTTYPE=image/jpeg:https://www.forchellilaw.com/wp-content/uploads/2023/03/ADDAPT-Flyer-033123.jpg
END:VEVENT
END:VCALENDAR