BEGIN:VCALENDAR
VERSION:2.0
PRODID:-//Forchelli Deegan Terrana Law - ECPv6.15.20//NONSGML v1.0//EN
CALSCALE:GREGORIAN
METHOD:PUBLISH
X-WR-CALNAME:Forchelli Deegan Terrana Law
X-ORIGINAL-URL:https://www.forchellilaw.com
X-WR-CALDESC:Events for Forchelli Deegan Terrana Law
REFRESH-INTERVAL;VALUE=DURATION:PT1H
X-Robots-Tag:noindex
X-PUBLISHED-TTL:PT1H
BEGIN:VTIMEZONE
TZID:America/New_York
BEGIN:DAYLIGHT
TZOFFSETFROM:-0500
TZOFFSETTO:-0400
TZNAME:EDT
DTSTART:20220313T070000
END:DAYLIGHT
BEGIN:STANDARD
TZOFFSETFROM:-0400
TZOFFSETTO:-0500
TZNAME:EST
DTSTART:20221106T060000
END:STANDARD
BEGIN:DAYLIGHT
TZOFFSETFROM:-0500
TZOFFSETTO:-0400
TZNAME:EDT
DTSTART:20230312T070000
END:DAYLIGHT
BEGIN:STANDARD
TZOFFSETFROM:-0400
TZOFFSETTO:-0500
TZNAME:EST
DTSTART:20231105T060000
END:STANDARD
BEGIN:DAYLIGHT
TZOFFSETFROM:-0500
TZOFFSETTO:-0400
TZNAME:EDT
DTSTART:20240310T070000
END:DAYLIGHT
BEGIN:STANDARD
TZOFFSETFROM:-0400
TZOFFSETTO:-0500
TZNAME:EST
DTSTART:20241103T060000
END:STANDARD
END:VTIMEZONE
BEGIN:VEVENT
DTSTART;TZID=America/New_York:20230323T180000
DTEND;TZID=America/New_York:20230323T210000
DTSTAMP:20260424T110221
CREATED:20230307T162853Z
LAST-MODIFIED:20230324T131555Z
UID:7015-1679594400-1679605200@www.forchellilaw.com
SUMMARY:The Long Island Chapter of the American Institute of Architects: Land Use and Zoning Law 101
DESCRIPTION:Come join us for an evening with Andrea Tsoukalas Curto\, Esq. and Gianni V. Sbarro\, Esq. as they walk you through the basics of land use and zoning law which will include the following topics: \n\nThe importance of zoning due diligence\nHow to present an area variance and use variance application\nWhat is a special use permit and conditional use permit?\nWhat is the subdivision process in Nassau County?\n\n  \nRegister here. \nAndrea Tsoukalas Curto\, Esq.\, Partner \nAndrea concentrates her practice in land use\, zoning\, environmental and municipal law. She represents clients in the development of commercial and residential properties and has an extensive track record of success with\, and before\, municipal boards and agencies on significant projects throughout Long Island. Andrea has obtained approvals for multifamily housing\, senior and assisting living communities\, minor and major subdivisions\, hotels\, restaurants\, auto dealerships\, gas stations\, urgent care and medical offices\, office buildings\, as well as shopping centers with big box retailers and supermarkets. She has also obtained approvals for industrial sites serving the booming ecommerce sector on Long Island. \nAndrea earned her J.D. from New York Law School and her B.A. from Hofstra University. \nGianni V. Sbarro\, Esq. \nAs a member of the firm’s Land Use & Zoning practice group\, Gianni represents commercial and residential clients on a local\, regional\, and national basis\, concentrating on complex land use and zoning matters\, including diligence and applications for discretionary approvals with governmental agencies. \nGianni earned his M.S. in Real Estate from New York University (Schack Institute of Real Estate); his J.D. from St. John’s University School of Law and his B.S. from Fairfield University.
URL:https://www.forchellilaw.com/event/the-long-island-chapter-of-the-american-institute-of-architects-land-use-and-zoning-law-101/
LOCATION:The OMNI\, 333 Earle Ovington Blvd.\, Uniondale\, NY\, 11553\, United States
ATTACH;FMTTYPE=image/png:https://www.forchellilaw.com/wp-content/uploads/2023/03/AIA-Event-032323.png
ORGANIZER;CN="The Long Island Chapter of the American Institute of Architects":MAILTO:joanne@aialongisland.com
END:VEVENT
END:VCALENDAR