BEGIN:VCALENDAR
VERSION:2.0
PRODID:-//Forchelli Deegan Terrana Law - ECPv6.15.20//NONSGML v1.0//EN
CALSCALE:GREGORIAN
METHOD:PUBLISH
X-ORIGINAL-URL:https://www.forchellilaw.com
X-WR-CALDESC:Events for Forchelli Deegan Terrana Law
REFRESH-INTERVAL;VALUE=DURATION:PT1H
X-Robots-Tag:noindex
X-PUBLISHED-TTL:PT1H
BEGIN:VTIMEZONE
TZID:America/New_York
BEGIN:DAYLIGHT
TZOFFSETFROM:-0500
TZOFFSETTO:-0400
TZNAME:EDT
DTSTART:20220313T070000
END:DAYLIGHT
BEGIN:STANDARD
TZOFFSETFROM:-0400
TZOFFSETTO:-0500
TZNAME:EST
DTSTART:20221106T060000
END:STANDARD
BEGIN:DAYLIGHT
TZOFFSETFROM:-0500
TZOFFSETTO:-0400
TZNAME:EDT
DTSTART:20230312T070000
END:DAYLIGHT
BEGIN:STANDARD
TZOFFSETFROM:-0400
TZOFFSETTO:-0500
TZNAME:EST
DTSTART:20231105T060000
END:STANDARD
BEGIN:DAYLIGHT
TZOFFSETFROM:-0500
TZOFFSETTO:-0400
TZNAME:EDT
DTSTART:20240310T070000
END:DAYLIGHT
BEGIN:STANDARD
TZOFFSETFROM:-0400
TZOFFSETTO:-0500
TZNAME:EST
DTSTART:20241103T060000
END:STANDARD
END:VTIMEZONE
BEGIN:VEVENT
DTSTART;TZID=America/New_York:20230316T110000
DTEND;TZID=America/New_York:20230316T133000
DTSTAMP:20260424T080504
CREATED:20230307T165512Z
LAST-MODIFIED:20230307T165512Z
UID:7024-1678964400-1678973400@www.forchellilaw.com
SUMMARY:REI:SBU Spring Luncheon "Building Future Green Infrastructure into Today's Real Estate Developments"
DESCRIPTION:FDT proudly sponsors the upcoming REI:SBU Spring Luncheon “Building Future Green Infrastructure into Today’s Real Estate Developments”
URL:https://www.forchellilaw.com/event/reisbu-spring-luncheon-building-future-green-infrastructure-into-todays-real-estate-developments/
LOCATION:Heritage Club at Bethpage\, 99 Quaker Meeting House Rd.\, Farmingdale\, NY\, 11735\, United States
ATTACH;FMTTYPE=image/png:https://www.forchellilaw.com/wp-content/uploads/2023/03/202320Spring20Luncheon20Flyer2020take2021020×2013_87520in1.png
ORGANIZER;CN="REI%3ASBU":MAILTO:reistonybrook@gmail.com
END:VEVENT
END:VCALENDAR